BEGIN:VCALENDAR
VERSION:2.0
PRODID:-//Effie Magazine - ECPv4.6.25//NONSGML v1.0//EN
CALSCALE:GREGORIAN
METHOD:PUBLISH
X-WR-CALNAME:Effie Magazine
X-ORIGINAL-URL:http://effiemagazine.com
X-WR-CALDESC:Events for Effie Magazine
BEGIN:VEVENT
DTSTART;TZID=America/Los_Angeles:20140615T110000
DTEND;TZID=America/Los_Angeles:20140615T150000
DTSTAMP:20260420T145228
CREATED:20140530T004904Z
LAST-MODIFIED:20140530T005053Z
UID:3704-1402830000-1402844400@effiemagazine.com
SUMMARY:2014 Father's Day Brunch presented by Pop Luck Club
DESCRIPTION:Join the Pop Luck Club for their annual Father’s Day Brunch at The Abbey in West Hollywood. The celebratory event welcoming gay dads and their kids and prospective dads begins at 11 a.m. and transitions into an outdoor concert at 12:30 p.m. \n“We will move outside to West Hollywood Park for a Children’s Concert & Festival\, co-sponsored by The City of West Hollywood and Raise A Child US. There will be lots of fun activities for kids and parents\, alike. The festivities will wind down around 3 p.m.” \nAn RSVP is strongly encouraged. RSVP online or contact John Ireland at John@PopLuckClub.org and at 213-840-3593. \nShare this:TweetPrintLike this:Like Loading...\n\n	Related\n
URL:http://effiemagazine.com/event/2014-fathers-day-brunch-presented-by-pop-luck-club/
LOCATION:The Abbey Food & Bar\, 692 N. Robertson Blvd.\, West Hollywood\, CA\, 90069\, United States
CATEGORIES:Parties
ATTACH;FMTTYPE=image/jpeg:http://effiemagazine.com/wp-content/uploads/2014/05/pop-luck-club-e1401400291416.jpg
END:VEVENT
END:VCALENDAR