BEGIN:VCALENDAR
VERSION:2.0
PRODID:-//Effie Magazine - ECPv4.6.25//NONSGML v1.0//EN
CALSCALE:GREGORIAN
METHOD:PUBLISH
X-WR-CALNAME:Effie Magazine
X-ORIGINAL-URL:http://effiemagazine.com
X-WR-CALDESC:Events for Effie Magazine
BEGIN:VEVENT
DTSTART;TZID=America/Los_Angeles:20180715T170000
DTEND;TZID=America/Los_Angeles:20180715T200000
DTSTAMP:20260420T132616
CREATED:20180531T223033Z
LAST-MODIFIED:20180531T223557Z
UID:9749-1531674000-1531684800@effiemagazine.com
SUMMARY:4th Annual Rosé Soirée -- benefiting PCDA
DESCRIPTION:Join us as we kick off summer with wonderful wine\, food\, and friends at the 4th annual Rosé Soirée garden party on the rooftop of the newly renovated dusitD2 Hotel Constance Pasadena! \nAll proceeds directly support therapy and programs for children with autism and other developmental disabilities. Participating restaurants include: \nClaud & Co. Bacchus’ Kitchen \nAltaeats \nConstance Perry’s by Claud Beltran \nLittle Beast Restaurant \nMalbec Argentinean Cuisine \n*More to follow- please check back for updates!* \nWine generously provided by Vendome Wine & Spirits. \nFor more info\, contact Lauren Loadvine at LaurenL@pcdateam.org or (626) 793-7350 x281. \nWe can’t wait to see you there! \nShare this:TweetPrintLike this:Like Loading...\n\n	Related\n
URL:http://effiemagazine.com/event/4th-annual-rose-soiree-benefiting-pcda/
LOCATION:Hotel Constance\, 928 East Colorado Blvd\, Pasadena\, CA\, United States
CATEGORIES:Parties,Philanthropy
ATTACH;FMTTYPE=image/jpeg:http://effiemagazine.com/wp-content/uploads/2018/05/Rose-Soiree-2018.jpg
END:VEVENT
END:VCALENDAR