BEGIN:VCALENDAR
VERSION:2.0
PRODID:-//Effie Magazine - ECPv4.6.25//NONSGML v1.0//EN
CALSCALE:GREGORIAN
METHOD:PUBLISH
X-WR-CALNAME:Effie Magazine
X-ORIGINAL-URL:http://effiemagazine.com
X-WR-CALDESC:Events for Effie Magazine
BEGIN:VEVENT
DTSTART;TZID=America/Los_Angeles:20150612T183000
DTEND;TZID=America/Los_Angeles:20150612T213000
DTSTAMP:20260420T145237
CREATED:20150519T234826Z
LAST-MODIFIED:20150529T003950Z
UID:5358-1434133800-1434144600@effiemagazine.com
SUMMARY:An Evening Among the Roses 2015
DESCRIPTION:As a kick-off to Los Angeles area LGBT Pride weekend\, The Huntington will host a fun and elegant garden party to say THANK YOU for the many and ongoing LGBT contributions to The Huntington. From our membership and donor base to key Huntington collections to valued curatorial and professional staff\, the LGBT community is well represented at The Huntington and we want to celebrate it. Enjoy music\, drinks\, hors d’oeuvres\, and The Huntington’s amazing roses. \nWith guests encouraged to dress to the nines\, An Evening Among the Roses is a sophisticated tribute to LGBT cultural contributions in Los Angeles and beyond. Attendees will enjoy great music\, food and drinks in a magical rose-laden paradise and experience The Huntington as an institution – its collections\, people\, and values – in a whole new light. \nTickets are $75 each. We expect a sell-out crowd\, so please reserve early. To purchase your ticket\, make a donation to support the event and for up-to-date event information\, visit www.huntington.ticketleap.com/amongtheroses. \nShare this:TweetPrintLike this:Like Loading...\n\n	Related\n
URL:http://effiemagazine.com/event/an-evening-among-the-roses-2015/
LOCATION:The Huntington Library and Botanical Gardens\, 1151 Oxford Rd.\, San Marino\, CA\, United States
CATEGORIES:Arts,Parties,Philanthropy
ATTACH;FMTTYPE=image/jpeg:http://effiemagazine.com/wp-content/uploads/2015/05/unnamed1.jpg
END:VEVENT
END:VCALENDAR