BEGIN:VCALENDAR
VERSION:2.0
PRODID:-//Effie Magazine - ECPv4.6.25//NONSGML v1.0//EN
CALSCALE:GREGORIAN
METHOD:PUBLISH
X-WR-CALNAME:Effie Magazine
X-ORIGINAL-URL:http://effiemagazine.com
X-WR-CALDESC:Events for Effie Magazine
BEGIN:VEVENT
DTSTART;TZID=America/Los_Angeles:20180120T140000
DTEND;TZID=America/Los_Angeles:20180120T170000
DTSTAMP:20260420T143819
CREATED:20180111T212625Z
LAST-MODIFIED:20180111T214227Z
UID:9425-1516456800-1516467600@effiemagazine.com
SUMMARY:Animaniacs in Concert!
DESCRIPTION:Legendary voice actor Rob Paulsen\, who has delighted generations of animation fanatics with his signature roles in “Pinky and the Brain\,” “Teenage Mutant Ninja Turtles\,” and dozens of other beloved film and television projects\, is bringing the beloved “Animaniacs” to the stage beginning with a show in New York in October.  He will be again joined by “Animaniacs” composer Randy Rogel to present “Animaniacs In Concert!” with several shows scheduled throughout the year and into 2017. \nFor Paulsen\, the return to work is a triumph. Diagnosed with throat cancer almost two years ago\, Paulsen only told a few friends and professional colleagues\, facing the possibility that his three-decades long career might be over forever.  But for a man of a hundred voices who suffered literally and figuratively in silence\, he’s on the mend\, cancer free\, and ready to get back to work. \nAnd\, grateful for his new lease on life\, Paulsen continues to make countless charity appearances and is beginning work on a memoir about his challenges recovering from a career-threatening diagnosis. With a voice that spans generations of cartoon fans\, Rob Paulsen is still ready to bring joy and laughter into people’s lives\, his passion for his work now even stronger than ever. \n“Animaniacs in Concert!” starring Rob Paulsen and Randy Rogel will be performed at the Santa Clarita Performing Arts Center on Saturday\, January 20th. The Santa Clarita Performing Arts Center is located at 26455 Rockwell Canyon Road\, Santa Clarita\, CA 91355. Ticket prices range from $34-$51. Show begins at 2 pm. For more information\, visit animaniacslive.com. \nShare this:TweetPrintLike this:Like Loading...\n\n	Related\n
URL:http://effiemagazine.com/event/animaniacs-in-concert/
LOCATION:Santa Clarita Performing Arts Center\, 26455 Rockwell Canyon Road\, Santa Clarita\, CA\, 91355\, United States
CATEGORIES:Arts
ATTACH;FMTTYPE=image/jpeg:http://effiemagazine.com/wp-content/uploads/2018/01/santaclaritapac-1.jpg
END:VEVENT
END:VCALENDAR