BEGIN:VCALENDAR
VERSION:2.0
PRODID:-//Effie Magazine - ECPv4.6.25//NONSGML v1.0//EN
CALSCALE:GREGORIAN
METHOD:PUBLISH
X-WR-CALNAME:Effie Magazine
X-ORIGINAL-URL:http://effiemagazine.com
X-WR-CALDESC:Events for Effie Magazine
BEGIN:VEVENT
DTSTART;TZID=America/Los_Angeles:20151004T170000
DTEND;TZID=America/Los_Angeles:20151004T210000
DTSTAMP:20260420T144325
CREATED:20150716T203818Z
LAST-MODIFIED:20150716T203818Z
UID:5683-1443978000-1443992400@effiemagazine.com
SUMMARY:Best In Drag Show 2015
DESCRIPTION:\nBattle for the Tiara began as a small\, annual party and AIDS fundraising event filled with love and heart in Alexis Pittman’s living room. Each year it has grown in size and renown. No longer able to squeeze into a tiny living room\, the event attracts 2\,000 people and takes place each fall at the Orpheum Theatre in downtown Los Angeles. \nThe event is helmed by an amazing group of dedicated and creative people including Jeffrey Drew\, Patrick Rush\, Jimmy Cuomo\, Joey Alfano\, John Paschal\, Todd Gadjusek\, and Greg Butler. For more than ten years\, Kathy Griffin has generously opened the show AND been a major donor. She leads the judges’ panel and ensures that the evening is a comedic success. \nThis fundraiser is produced every year by an army of extraordinary talented volunteers and a small staff from Alliance for Housing and Healing to support the work of the nonprofit Alliance for Housing and Healing including its flagship program known as Aid for AIDS. Alliance for Housing and Healing provides: \n\n\nGroup Homes with 24/7 care for those who are too ill with HIV/AIDS to live on their own and have no other resources;\nPermanent\, subsidized apartments that are safe places for individuals and families with HIV/AIDS and a second diagnosis; and\nEmergency financial assistance to pay rent and utility bills for those with HIV/AIDS who are facing eviction and homelessness.\n\n\n\nShare this:TweetPrintLike this:Like Loading...\n\n	Related\n
URL:http://effiemagazine.com/event/best-in-drag-show-2015/
LOCATION:Orpheum Theater\, 842 S. Broadway \, Los Angeles\, United States
CATEGORIES:Arts,Philanthropy
ATTACH;FMTTYPE=image/jpeg:http://effiemagazine.com/wp-content/uploads/2014/10/BestInDrag-254-e1412715198547.jpg
END:VEVENT
END:VCALENDAR