BEGIN:VCALENDAR
VERSION:2.0
PRODID:-//Effie Magazine - ECPv4.6.25//NONSGML v1.0//EN
CALSCALE:GREGORIAN
METHOD:PUBLISH
X-WR-CALNAME:Effie Magazine
X-ORIGINAL-URL:http://effiemagazine.com
X-WR-CALDESC:Events for Effie Magazine
BEGIN:VEVENT
DTSTART;TZID=America/Los_Angeles:20170812T160000
DTEND;TZID=America/Los_Angeles:20170812T230000
DTSTAMP:20260420T121650
CREATED:20170801T175304Z
LAST-MODIFIED:20170801T175304Z
UID:8954-1502553600-1502578800@effiemagazine.com
SUMMARY:Big Night Out 2017
DESCRIPTION:This Premier Gala Reception is designed to showcase entertainment\, LA lifestyles\, fine dining\, architectural design\, outstanding auctions\, and more. Created nearly two decades ago by AIDS Service Center (ASC) in Pasadena\, the event grew into one of the most successful charity events in the area. With the closing of ASC two years ago\, The Thrive Tribe Foundation (TTF) chose to continue the legacy and engaged former Executive Director Anthony Guthmiller to produce the event this year. Big Night Out will continue to explore the beauty and uniqueness of Southern California now benefiting TTF. \n\n\nOver four hundred guests gather at a grand estate for the event’s Premier Gala Reception and then proceed to various themed dinner parties for the rest of the evening. TTF is excited to announce that the reception will be hosted at the Beverly Hills\, Greystone Mansion. \nThe Premier Gala Reception is 4:00 – 7:00 pm featuring outstanding auctions and samplings from the finest local restaurants & caterers. Special guests include Eric Leonardos (Finding Prince Charming)\, The Pink Lady of Hollywood\, Kitten Kay Sera\, Ann Walker and José Eber. \nGuests will then depart to one of many uniquely themed dinner parties throughout the area. The dinner parties are hosted at a unique array of architecturally significant homes and famous sites. Dinners themes in the past have included: 50th Anniversary of Swanson TV Dinners\, Barbie Turns 50\, Italian Nights\, Cuban-themed Havana Nights\, Jazz on the Rocks – Starlit Evening of Jazz\, and Art Night. \nProceeds benefit the End of HIV Transmission Through Empowerment\, Community & Connection\nFor more information\, visit www.bignightoutla.org\n \n\n\n\nShare this:TweetPrintLike this:Like Loading...\n\n	Related\n
URL:http://effiemagazine.com/event/big-night-out-2017/
LOCATION:Greystone Mansion\, 905 Loma Vista Dr.\, Beverly Hills\, CA\, 90210\, United States
CATEGORIES:Parties,Philanthropy
ATTACH;FMTTYPE=image/jpeg:http://effiemagazine.com/wp-content/uploads/2017/08/BNO-19.jpg
END:VEVENT
END:VCALENDAR