BEGIN:VCALENDAR
VERSION:2.0
PRODID:-//Effie Magazine - ECPv4.6.25//NONSGML v1.0//EN
CALSCALE:GREGORIAN
METHOD:PUBLISH
X-WR-CALNAME:Effie Magazine
X-ORIGINAL-URL:http://effiemagazine.com
X-WR-CALDESC:Events for Effie Magazine
BEGIN:VEVENT
DTSTART;TZID=America/Los_Angeles:20180825T120000
DTEND;TZID=America/Los_Angeles:20180826T220000
DTSTAMP:20260420T131519
CREATED:20180202T000938Z
LAST-MODIFIED:20180202T000938Z
UID:9537-1535198400-1535320800@effiemagazine.com
SUMMARY:DTLA PROUD 2018
DESCRIPTION:WE HAVE A VERY SPECIAL ANNOUNCEMENT! \nDTLA PROUD Festival returns to Pershing Square on August 25 & 26\, 2018. \nJoin us this summer in celebrating the culture\, history\, and diversity of the growing LGBTQ+ community in Downtown Los Angeles and beyond. Planning for the 3rd annual DTLA PROUD Festival is well underway; follow us online for updates! \nTo find out how you can contribute to DTLA PROUD\, please email info@dtlaproud.org. \nShare this:TweetPrintLike this:Like Loading...\n\n	Related\n
URL:http://effiemagazine.com/event/dtla-proud-2018/
LOCATION:Pershing Square\, 532 South Olive Street\, Los Angeles\, CA\, 90013\, United States
CATEGORIES:Parties,Philanthropy
ATTACH;FMTTYPE=image/jpeg:http://effiemagazine.com/wp-content/uploads/2018/02/DTLA-Proud.jpg
END:VEVENT
END:VCALENDAR