BEGIN:VCALENDAR
VERSION:2.0
PRODID:-//Effie Magazine - ECPv4.6.25//NONSGML v1.0//EN
CALSCALE:GREGORIAN
METHOD:PUBLISH
X-WR-CALNAME:Effie Magazine
X-ORIGINAL-URL:http://effiemagazine.com
X-WR-CALDESC:Events for Effie Magazine
BEGIN:VEVENT
DTSTART;VALUE=DATE:20131214
DTEND;VALUE=DATE:20131216
DTSTAMP:20260420T145944
CREATED:20130816T021356Z
LAST-MODIFIED:20130816T021535Z
UID:2205-1386979200-1387151999@effiemagazine.com
SUMMARY:Festival Of Carols: GMCLA’s Annual Holiday Spectacular
DESCRIPTION:For a special holiday twist\, the Gay Men’s Chorus of Los Angeles will present the sounds of brass instruments throughout the performance and welcome some very special guests for an unforgettable evening of merriment\, “Festival of Carols.” The annual “Holiday Spectacular\,” which always sells out\, celebrates the first concert of GMCLA’s of its 35th Season! Last season’s “Holiday Spectacular” featured 46 students from the Creative Planet School of the Arts harmonizing onstage alongside the 200+ members of GMCLA in a moving tribute performance of “Peace on Earth\,” dedicated to the victims of the tragic shooting that took place in Newtown\, CT. \nShare this:TweetPrintLike this:Like Loading...\n\n	Related\n
URL:http://effiemagazine.com/event/festival-of-carols-gmclas-annual-holiday-spectacular/
LOCATION:Alex Theatre\, 216 N. Brand Blvd.\, Glendale\, CA\, 91206\, United States
ATTACH;FMTTYPE=image/jpeg:http://effiemagazine.com/wp-content/uploads/2013/08/GMCLA-Season-35-e1401577622155.jpg
END:VEVENT
END:VCALENDAR