BEGIN:VCALENDAR
VERSION:2.0
PRODID:-//Effie Magazine - ECPv4.6.25//NONSGML v1.0//EN
CALSCALE:GREGORIAN
METHOD:PUBLISH
X-WR-CALNAME:Effie Magazine
X-ORIGINAL-URL:http://effiemagazine.com
X-WR-CALDESC:Events for Effie Magazine
BEGIN:VEVENT
DTSTART;TZID=America/Los_Angeles:20150302T203000
DTEND;TZID=America/Los_Angeles:20150302T203000
DTSTAMP:20260420T134107
CREATED:20150107T210633Z
LAST-MODIFIED:20150107T210633Z
UID:5011-1425328200-1425328200@effiemagazine.com
SUMMARY:Hardcore Home Movies
DESCRIPTION:\n\n\n\n\nThis radically fun and eclectic collection of queer film and video works assembled by programmer Bradford Nordeen draws from punk and queercore archives\, and includes essential works by Jonesy\, Jill Reiter\, G.B. Jones and Greta Snider\, in addition to unearthing recent finds and lesser-known titles. Nordeen launched Dirty Looks as a monthly platform for queer experimental film and video in 2011\, and has brought it to a variety of venues\, from film festivals and museums to rooftops and unlikely social spaces in new York and on the West Coast. \nPresented as part of the Jack H. Skirball Series\, and curated by Bradford Nordeen and organized in collaboration with DL: Los Angeles. In person: Bradford Nordeen\, Jonesy\, and Jill Reiter.  Call the REDCAT box office to purchase at 213-237-2800. \n\n\n\n\n\nShare this:TweetPrintLike this:Like Loading...\n\n	Related\n
URL:http://effiemagazine.com/event/hardcore-home-movies/
LOCATION:REDCAT\, 631 W. 2nd St.\, Los Angeles\, CA\, 90012\, United States
CATEGORIES:Arts
ATTACH;FMTTYPE=image/jpeg:http://effiemagazine.com/wp-content/uploads/2015/01/Hardcore-Home-Movies-REDCAT.jpg
END:VEVENT
END:VCALENDAR