BEGIN:VCALENDAR
VERSION:2.0
PRODID:-//Effie Magazine - ECPv4.6.25//NONSGML v1.0//EN
CALSCALE:GREGORIAN
METHOD:PUBLISH
X-WR-CALNAME:Effie Magazine
X-ORIGINAL-URL:http://effiemagazine.com
X-WR-CALDESC:Events for Effie Magazine
BEGIN:VEVENT
DTSTART;VALUE=DATE:20150607
DTEND;VALUE=DATE:20150608
DTSTAMP:20260420T145151
CREATED:20150311T232524Z
LAST-MODIFIED:20150311T232547Z
UID:5099-1433635200-1433721599@effiemagazine.com
SUMMARY:Imagine Tea benefiting Five Acres
DESCRIPTION:Imagine Tea is designed especially for children and will feature a remarkable touch of magic. Junior performers from the famed Magic Castle will be on hand to entertain young tea guests\, performing close-up magic while children dine on a specialty tea menu of magically-decorated cookies\, ham\, turkey and PB & J sandwiches and whimsical desserts\, all accompanied by pink lemonade\, milk and a selection of fruit-infused\, caffeine-free teas. \nYoung tea guests will also have the opportunity to make their own magic during the tea\, as they are invited to attend dressed as whichever character\, person or animal most appeals to their imagination. During the tea\, each child will then be invited to enjoy a special photo-op on the magic stage of The Langham Huntington\, Pasadena Lobby Lounge. \nImagine Tea at The Langham Huntington\, Pasadena is part of a family-oriented partnership created between the hotel and the junior program of Magic Castle. Presented quarterly\, the new Imagine Tea series will also benefit several local children’s non-profit organizations. The Langham Huntington\, Pasadena will donate a portion of each tea date’s proceeds to such charities. \nThe Imagine Tea scheduled for June 7\, 2015\, benefits Five Acres\, a child & family services agency promoting the safety\, well-being and permanency for children and their families since 1888.\nSeatings will be presented at 10 a.m. and 1:30 p.m. For reservations\, call (626) 585-6218. \nShare this:TweetPrintLike this:Like Loading...\n\n	Related\n
URL:http://effiemagazine.com/event/imagine-tea-benefiting-five-acres/
LOCATION:The Langham Huntington\, Pasadena\, 1401 S. Oak Knoll Ave.\, Pasadena\, CA\, 91106\, United States
CATEGORIES:Parties,Philanthropy
ATTACH;FMTTYPE=image/jpeg:http://effiemagazine.com/wp-content/uploads/2015/03/imagine_tea_birthday-series-e1426115094330.jpg
END:VEVENT
END:VCALENDAR