BEGIN:VCALENDAR
VERSION:2.0
PRODID:-//Effie Magazine - ECPv4.6.25//NONSGML v1.0//EN
CALSCALE:GREGORIAN
METHOD:PUBLISH
X-WR-CALNAME:Effie Magazine
X-ORIGINAL-URL:http://effiemagazine.com
X-WR-CALDESC:Events for Effie Magazine
BEGIN:VEVENT
DTSTART;VALUE=DATE:20141018
DTEND;VALUE=DATE:20141130
DTSTAMP:20260420T133357
CREATED:20140924T224350Z
LAST-MODIFIED:20141119T174538Z
UID:4439-1413590400-1417305599@effiemagazine.com
SUMMARY:Mark Dean Veca: EVERLAST
DESCRIPTION:Join Western Project for\nMARK DEAN VECA : EVERLAST\nNew Paintings and Works on Paper\nOpening Reception Party\nSaturday\, October 18\, 2014\n 6 – 8 pm \nMARK DEAN VECA: 20 Years\nPublished September 2013 by Zero+ Publishing\nwith essays by Shana Nys Dambrot and Carlo McCormick\nwill also be available for purchase (limited copies). \n Show runs through Saturday\, November 29\, 2014\n Tuesday – Saturday from 11 am – 5 pm \nShare this:TweetPrintLike this:Like Loading...\n\n	Related\n
URL:http://effiemagazine.com/event/mark-dean-veca-everlast/
CATEGORIES:Arts
ATTACH;FMTTYPE=image/jpeg:http://effiemagazine.com/wp-content/uploads/2014/09/Mark-Veca-book-e1411598594739.jpg
END:VEVENT
END:VCALENDAR