BEGIN:VCALENDAR
VERSION:2.0
PRODID:-//Effie Magazine - ECPv4.6.25//NONSGML v1.0//EN
CALSCALE:GREGORIAN
METHOD:PUBLISH
X-WR-CALNAME:Effie Magazine
X-ORIGINAL-URL:http://effiemagazine.com
X-WR-CALDESC:Events for Effie Magazine
BEGIN:VEVENT
DTSTART;VALUE=DATE:20130924
DTEND;VALUE=DATE:20131002
DTSTAMP:20260420T155235
CREATED:20130710T181520Z
LAST-MODIFIED:20130710T181520Z
UID:2101-1379980800-1380671999@effiemagazine.com
SUMMARY:Radar L.A. 2013
DESCRIPTION:Radar L.A. is an international festival of contemporary theater that highlights innovative Los Angeles-based artists alongside influential companies from around the world\, including artists from Chile\, Argentina\, Mexico\, Columbia\, Japan\, New Zealand and more. \nThe experienced curatorial team of Mark Murphy (REDCAT)\, Diane Rodriguez (Center Theatre Group) and Mark Russell (The Public Theater) is assembling a provocative program that will involve innovative artists who stretch the boundaries of traditional theater. \nRadar L.A. is presented by REDCAT and CalArts in association with Center Theatre Group and a consortium of partners including the City of Los Angeles Department of Cultural Affairs\, The Public Theater (New York)\, LA Stage Alliance\, and Theatre Communications Group. Additional partners include Los Angles Theatre Center and the Center for the Art of Performance at UCLA. \nShare this:TweetPrintLike this:Like Loading...\n\n	Related\n
URL:http://effiemagazine.com/event/radar-l-a-2013/
LOCATION:WALT DISNEY CONCERT HALL COMPLEX\, 631 W. 2ND St.\, Los Angeles\, CA\, 90012\, United States
ATTACH;FMTTYPE=image/jpeg:http://effiemagazine.com/wp-content/uploads/2013/07/radar_l.a._logo.jpg
END:VEVENT
END:VCALENDAR