BEGIN:VCALENDAR
VERSION:2.0
PRODID:-//Effie Magazine - ECPv4.6.25//NONSGML v1.0//EN
CALSCALE:GREGORIAN
METHOD:PUBLISH
X-WR-CALNAME:Effie Magazine
X-ORIGINAL-URL:http://effiemagazine.com
X-WR-CALDESC:Events for Effie Magazine
BEGIN:VEVENT
DTSTART;TZID=America/Los_Angeles:20130817T120000
DTEND;TZID=America/Los_Angeles:20130817T170000
DTSTAMP:20260420T215540
CREATED:20130710T014721Z
LAST-MODIFIED:20130710T014846Z
UID:2077-1376740800-1376758800@effiemagazine.com
SUMMARY:SOAKED 2013
DESCRIPTION:SOAKED is a wild and crazy pool party like no other with a purpose of promoting healthier sexual lifestyles. \nHeld at a private Hollywood Hills estate\, this party includes food\, entertainment\, and of course\, a hosted bar. Music by DJs DrewG and Woody Woodbeck. Presale tickets $20 before July 15. \nThe Pool Party with a Purpose\, seamlessly combines the ever-popular summer pool parties with Impulse’s message of safer-sex practices and personal responsibility. Impulse proves you can be shirtless\, look amazing and be socially conscious all at the same time! \nShare this:TweetPrintLike this:Like Loading...\n\n	Related\n
URL:http://effiemagazine.com/event/soaked-2013/
ATTACH;FMTTYPE=image/jpeg:http://effiemagazine.com/wp-content/uploads/2013/07/SOAKED-2013.jpg
END:VEVENT
END:VCALENDAR