BEGIN:VCALENDAR
VERSION:2.0
PRODID:-//Effie Magazine - ECPv4.6.25//NONSGML v1.0//EN
CALSCALE:GREGORIAN
METHOD:PUBLISH
X-WR-CALNAME:Effie Magazine
X-ORIGINAL-URL:http://effiemagazine.com
X-WR-CALDESC:Events for Effie Magazine
BEGIN:VEVENT
DTSTART;TZID=America/Los_Angeles:20141230T164000
DTEND;TZID=America/Los_Angeles:20141230T174000
DTSTAMP:20260420T134053
CREATED:20140814T163322Z
LAST-MODIFIED:20140814T163322Z
UID:4185-1419957600-1419961200@effiemagazine.com
SUMMARY:Sunset Walk & Talk at Griffith Observatory
DESCRIPTION:Bask in the natural and celestial culture of Los Angeles! Each month the Observatory offers a sunset hike lead by a Park Ranger and Museum Guide. \nThe hike starts on the Observatory West Terrace\, proceeds up the Charlie Turner trail to the Berlin Forest on the hill just north of the Observatory\, and then returns to the West Terrace. The distance covered is about half a mile over the course of an hour at a very moderate pace with stops along the way to discuss the highlights and history of Griffith Park\, and objects visible in the evening sky. \nNOTE: The Charlie Turner trail is a moderately steep earthen trail and footwear appropriate for hiking is recommended. \nShare this:TweetPrintLike this:Like Loading...\n\n	Related\n
URL:http://effiemagazine.com/event/sunset-walk-talk-at-griffith-observatory-6/
LOCATION:Griffith Observatory\, 2800 East Observatory Road\, Los Angeles\, CA\, 90027\, United States
CATEGORIES:Arts
ATTACH;FMTTYPE=image/jpeg:http://effiemagazine.com/wp-content/uploads/2014/08/Sunset-Walk-Talk.jpg
END:VEVENT
END:VCALENDAR