BEGIN:VCALENDAR
VERSION:2.0
PRODID:-//Effie Magazine - ECPv4.6.25//NONSGML v1.0//EN
CALSCALE:GREGORIAN
METHOD:PUBLISH
X-WR-CALNAME:Effie Magazine
X-ORIGINAL-URL:http://effiemagazine.com
X-WR-CALDESC:Events for Effie Magazine
BEGIN:VEVENT
DTSTART;VALUE=DATE:20150222
DTEND;VALUE=DATE:20150223
DTSTAMP:20260420T122532
CREATED:20150107T225753Z
LAST-MODIFIED:20150107T232646Z
UID:5014-1424563200-1424649599@effiemagazine.com
SUMMARY:The Envelope Please – APLA Oscar Party
DESCRIPTION:One of the fashionable parties held annually on Oscar Row\, this event at The Abbey Food & Bar in West Hollywood features cocktails\, dinner\, and Oscar viewing in style. \nFor more information\, please contact Tracie Ayala\, Event Manager\, at 213.201.1439 or tayala@apla.org. \nShare this:TweetPrintLike this:Like Loading...\n\n	Related\n
URL:http://effiemagazine.com/event/the-envelope-please-14th-annual-oscar-party/
LOCATION:The Abbey Food & Bar\, 692 N. Robertson Blvd.\, West Hollywood\, CA\, 90069\, United States
CATEGORIES:Philanthropy
ATTACH;FMTTYPE=image/jpeg:http://effiemagazine.com/wp-content/uploads/2015/01/APLA-Envelope-Please-2015.jpg
END:VEVENT
END:VCALENDAR